BEGIN:VCALENDAR
VERSION:2.0
PRODID:-//DIGITAL FACTORY//EVENTS MAKER V1.6.14//EN
CALSCALE:GREGORIAN
BEGIN:VEVENT
DTEND:20170717
UID:69e805a61b30a
DTSTAMP:20260421T231758Z
LOCATION:Hill City Swim &amp; Tennis Club 2677 Waterlick Road, Lynchburg, VA, 24502, US
DESCRIPTION:
URL;VALUE=URI:https://hillcitypool.com/events-calendar2/event/swim-meet-at-peakland/
SUMMARY:Swim meet at Peakland
DTSTART:20170717
END:VEVENT
END:VCALENDAR
